BEGIN:VCALENDAR
VERSION:2.0
PRODID:-//ChurchDev//Events//EN
CALSCALE:GREGORIAN
METHOD:PUBLISH
BEGIN:VEVENT
UID:5495-20260412@www.kingsburybc.com
SUMMARY:QUARTERLY BUSINESS MEETING
DTSTART:20260412T171000Z
DTEND:20260412T180000Z
DESCRIPTION:https://www.kingsburybc.com/events/quarterly-business-meeting-4/
LOCATION:6901 FM 2438 Kingsbury\, Texas 78638
URL:https://www.kingsburybc.com/events/quarterly-business-meeting-4/
DTSTAMP:20260419T212737Z
END:VEVENT
END:VCALENDAR
