BEGIN:VCALENDAR
VERSION:2.0
PRODID:-//ChurchDev//Events//EN
CALSCALE:GREGORIAN
METHOD:PUBLISH
BEGIN:VEVENT
UID:5491-20260407@www.kingsburybc.com
SUMMARY:MINISTER TRAINING: FROM START TO FINSH by Mark Dance
DTSTART:20260408T000000Z
DTEND:20260408T010000Z
DESCRIPTION:https://www.kingsburybc.com/events/minister-training-from-start-to-finsh-by-mark-dance/
LOCATION:6901 FM 2438 Kingsbury\, Texas 78638
URL:https://www.kingsburybc.com/events/minister-training-from-start-to-finsh-by-mark-dance/
DTSTAMP:20260419T212738Z
END:VEVENT
END:VCALENDAR
