BEGIN:VCALENDAR
VERSION:2.0
PRODID:-//ChurchDev//Events//EN
CALSCALE:GREGORIAN
METHOD:PUBLISH
BEGIN:VEVENT
UID:5490-20260415@www.kingsburybc.com
SUMMARY:SENIORS COMMUITY LUNCHEON
DTSTART:20260415T163000Z
DTEND:20260415T180000Z
DESCRIPTION:https://www.kingsburybc.com/events/seniors-commuity-luncheon-4/
LOCATION:6901 FM 2438 Kingsbury\, Texas 78638
URL:https://www.kingsburybc.com/events/seniors-commuity-luncheon-4/
DTSTAMP:20260419T212739Z
END:VEVENT
END:VCALENDAR
