BEGIN:VCALENDAR
VERSION:2.0
PRODID:-//ChurchDev//Events//EN
CALSCALE:GREGORIAN
METHOD:PUBLISH
BEGIN:VEVENT
UID:5488-20260418@www.kingsburybc.com
SUMMARY:ORDINATION SERVICE
DTSTART:20260418T200000Z
DTEND:20260418T223000Z
DESCRIPTION:https://www.kingsburybc.com/events/ordination-service/
LOCATION:6901 FM 2438 Kingsbury\, Texas 78638
URL:https://www.kingsburybc.com/events/ordination-service/
DTSTAMP:20260419T212652Z
END:VEVENT
END:VCALENDAR
