BEGIN:VCALENDAR
VERSION:2.0
PRODID:-//ChurchDev//Events//EN
CALSCALE:GREGORIAN
METHOD:PUBLISH
BEGIN:VEVENT
UID:5487-20260419@www.kingsburybc.com
SUMMARY:WESTERN SONRISE MINISTRIES &#8211\; LEADING WORSHIP WITH COUNTRY GOSPEL  MUSIC
DTSTART:20260419T154500Z
DTEND:20260419T170000Z
DESCRIPTION:https://www.kingsburybc.com/events/western-sonrise-ministries-leading-worship-with-country-gospel-music/
LOCATION:6901 FM 2438 Kingsbury\, Texas 78638
URL:https://www.kingsburybc.com/events/western-sonrise-ministries-leading-worship-with-country-gospel-music/
DTSTAMP:20260419T212650Z
END:VEVENT
END:VCALENDAR
