BEGIN:VCALENDAR
VERSION:2.0
PRODID:-//ChurchDev//Events//EN
CALSCALE:GREGORIAN
METHOD:PUBLISH
BEGIN:VEVENT
UID:5486-20260412@www.kingsburybc.com
SUMMARY:DENNIS RICKETTS &#038\; SURESH / ROJA MINISTERING
DTSTART:20260412T154500Z
DTEND:20260412T170000Z
DESCRIPTION:https://www.kingsburybc.com/events/dennis-ricketts-suresh-roja-ministering/
LOCATION:6901 FM 2438 Kingsbury\, Texas 78638
URL:https://www.kingsburybc.com/events/dennis-ricketts-suresh-roja-ministering/
DTSTAMP:20260419T212651Z
END:VEVENT
END:VCALENDAR
