BEGIN:VCALENDAR
VERSION:2.0
PRODID:-//ChurchDev//Events//EN
CALSCALE:GREGORIAN
METHOD:PUBLISH
BEGIN:VEVENT
UID:5485-20260405@www.kingsburybc.com
SUMMARY:EASTER CANTATA
DTSTART:20260405T154500Z
DTEND:20260405T170000Z
DESCRIPTION:https://www.kingsburybc.com/events/easter-cantata/
LOCATION:6901 FM 2438 Kingsbury\, Texas 78638
URL:https://www.kingsburybc.com/events/easter-cantata/
DTSTAMP:20260419T212808Z
END:VEVENT
END:VCALENDAR
